BEGIN:VCALENDAR
VERSION:2.0
PRODID:-//Pearl River Ancient Order of Hibernians - ECPv6.10.1.1//NONSGML v1.0//EN
CALSCALE:GREGORIAN
METHOD:PUBLISH
X-WR-CALNAME:Pearl River Ancient Order of Hibernians
X-ORIGINAL-URL:https://praoh.org
X-WR-CALDESC:Events for Pearl River Ancient Order of Hibernians
REFRESH-INTERVAL;VALUE=DURATION:PT1H
X-Robots-Tag:noindex
X-PUBLISHED-TTL:PT1H
BEGIN:VTIMEZONE
TZID:America/New_York
BEGIN:DAYLIGHT
TZOFFSETFROM:-0500
TZOFFSETTO:-0400
TZNAME:EDT
DTSTART:20250309T070000
END:DAYLIGHT
BEGIN:STANDARD
TZOFFSETFROM:-0400
TZOFFSETTO:-0500
TZNAME:EST
DTSTART:20251102T060000
END:STANDARD
END:VTIMEZONE
BEGIN:VEVENT
DTSTART;TZID=America/New_York:20250926T083000
DTEND;TZID=America/New_York:20250926T083000
DTSTAMP:20260423T110035
CREATED:20250921T143753Z
LAST-MODIFIED:20250921T143753Z
UID:5917-1758875400-1758875400@praoh.org
SUMMARY:West Point JBK Ryan Barnard Memorial Golf Outing
DESCRIPTION:Shotgun start golf outing at West Point GC. Benefits Ryan Barnard Grants Program
URL:https://praoh.org/event/west-point-jbk-ryan-barnard-memorial-golf-outing/
LOCATION:NY
END:VEVENT
BEGIN:VEVENT
DTSTART;TZID=America/New_York:20250927T160000
DTEND;TZID=America/New_York:20250927T160000
DTSTAMP:20260423T110035
CREATED:20250921T143800Z
LAST-MODIFIED:20250921T143941Z
UID:5918-1758988800-1758988800@praoh.org
SUMMARY:RC Police Emerald Soc. Pipe & Drums 30th Anniversary
DESCRIPTION:Live music by Derek Warfield and the Young Wolftones\, RCES Pipe & Drums\, food and drink at Rockland GAA
URL:https://praoh.org/event/rc-police-emerald-soc-pipe-drums-30th-anniversary/
LOCATION:NY
END:VEVENT
BEGIN:VEVENT
DTSTART;TZID=America/New_York:20250929T120000
DTEND;TZID=America/New_York:20250929T120000
DTSTAMP:20260423T110035
CREATED:20250921T143801Z
LAST-MODIFIED:20250921T144146Z
UID:5919-1759147200-1759147200@praoh.org
SUMMARY:Orangetown Police Dept. Annual Golf Outing
DESCRIPTION:Shotgun start at Blue Hill GC. Register at 11am\, dinner after at KOC
URL:https://praoh.org/event/orangetown-police-dept-annual-golf-outing/
LOCATION:NY
END:VEVENT
END:VCALENDAR