BEGIN:VCALENDAR
VERSION:2.0
PRODID:-//Pearl River Ancient Order of Hibernians - ECPv6.10.1.1//NONSGML v1.0//EN
CALSCALE:GREGORIAN
METHOD:PUBLISH
X-ORIGINAL-URL:https://praoh.org
X-WR-CALDESC:Events for Pearl River Ancient Order of Hibernians
REFRESH-INTERVAL;VALUE=DURATION:PT1H
X-Robots-Tag:noindex
X-PUBLISHED-TTL:PT1H
BEGIN:VTIMEZONE
TZID:America/New_York
BEGIN:DAYLIGHT
TZOFFSETFROM:-0500
TZOFFSETTO:-0400
TZNAME:EDT
DTSTART:20240310T070000
END:DAYLIGHT
BEGIN:STANDARD
TZOFFSETFROM:-0400
TZOFFSETTO:-0500
TZNAME:EST
DTSTART:20241103T060000
END:STANDARD
END:VTIMEZONE
BEGIN:VEVENT
DTSTART;TZID=America/New_York:20240505T090000
DTEND;TZID=America/New_York:20240505T120000
DTSTAMP:20260423T050812
CREATED:20240428T214526Z
LAST-MODIFIED:20240428T214527Z
UID:5265-1714899600-1714910400@praoh.org
SUMMARY:Annual Communion Mass and Breakfast
DESCRIPTION:Our Hibernian Mass and Communion Breakfast will be on Sunday\, May 5th\, with Mass at 9 a.m. at St. Margaret’s. As an Irish Catholic organization\, we should have a strong showing at both the Mass and the breakfast\, where we will be awarding our scholarships. Note that the Breakfast is open to all members\, not just the families of scholarship winners.
URL:https://praoh.org/event/annual-communion-mass-and-breakfast/
LOCATION:NY
CATEGORIES:Featured
ATTACH;FMTTYPE=image/png:https://praoh.org/wp-content/uploads/2024/04/catholic-chalice-5893060_1280.png
END:VEVENT
BEGIN:VEVENT
DTSTART;TZID=America/New_York:20240510T113000
DTEND;TZID=America/New_York:20240510T113000
DTSTAMP:20260423T050812
CREATED:20240426T135046Z
LAST-MODIFIED:20240428T213035Z
UID:5257-1715340600-1715340600@praoh.org
SUMMARY:Division 3 Memorial Golf Outing
DESCRIPTION:
URL:https://praoh.org/event/division-3-memorial-golf-outing/
LOCATION:NY
CATEGORIES:Featured
END:VEVENT
BEGIN:VEVENT
DTSTART;TZID=America/New_York:20240517T200000
DTEND;TZID=America/New_York:20240517T210000
DTSTAMP:20260423T050812
CREATED:20240508T194933Z
LAST-MODIFIED:20240508T194934Z
UID:5286-1715976000-1715979600@praoh.org
SUMMARY:Division May Meeting
DESCRIPTION:
URL:https://praoh.org/event/division-may-meeting/
LOCATION:Hibernian House\, 28 Railroad Avenue\, Pearl River\, NY\, 10956\, United States
END:VEVENT
BEGIN:VEVENT
DTSTART;TZID=America/New_York:20240527T100000
DTEND;TZID=America/New_York:20240527T233000
DTSTAMP:20260423T050812
CREATED:20240508T194620Z
LAST-MODIFIED:20240508T194621Z
UID:5284-1716804000-1716852600@praoh.org
SUMMARY:Pearl River Memorial Day Parade: Monday\, May 27th
DESCRIPTION:Kicking off from Key Bank on North Middletown Road. Let’s take 90 minutes out of our long weekend to recognize those who made the ultimate sacrifice for us.  Let’s have a good showing from Division 3
URL:https://praoh.org/event/pearl-river-memorial-day-parade-monday-may-27th/
LOCATION:NY
END:VEVENT
END:VCALENDAR