BEGIN:VCALENDAR
VERSION:2.0
PRODID:-//Pearl River Ancient Order of Hibernians - ECPv6.10.1.1//NONSGML v1.0//EN
CALSCALE:GREGORIAN
METHOD:PUBLISH
X-ORIGINAL-URL:https://praoh.org
X-WR-CALDESC:Events for Pearl River Ancient Order of Hibernians
REFRESH-INTERVAL;VALUE=DURATION:PT1H
X-Robots-Tag:noindex
X-PUBLISHED-TTL:PT1H
BEGIN:VTIMEZONE
TZID:America/New_York
BEGIN:DAYLIGHT
TZOFFSETFROM:-0500
TZOFFSETTO:-0400
TZNAME:EDT
DTSTART:20150308T070000
END:DAYLIGHT
BEGIN:STANDARD
TZOFFSETFROM:-0400
TZOFFSETTO:-0500
TZNAME:EST
DTSTART:20151101T060000
END:STANDARD
END:VTIMEZONE
BEGIN:VEVENT
DTSTART;TZID=America/New_York:20150523T094500
DTEND;TZID=America/New_York:20150523T094500
DTSTAMP:20260422T093958
CREATED:20150523T164959Z
LAST-MODIFIED:20150523T164959Z
UID:2235-1432374300-1432374300@praoh.org
SUMMARY:Pearl River Memorial Day Parade
DESCRIPTION:They marched to protect us\, won’t you take some time to march to honor them? Join us for the Pearl River Memorial Day Parade on Monday 5/25 at 9:45AM at the First Niagara parking lot as we march to honor those who gave all to defend us.
URL:https://praoh.org/event/pearl-river-memorial-day-parade/
LOCATION:First Niagara\, 93 N Middletown Rd \, Pearl River\, NY\, United States
END:VEVENT
BEGIN:VEVENT
DTSTART;TZID=America/New_York:20150530T130000
DTEND;TZID=America/New_York:20150530T130000
DTSTAMP:20260422T093958
CREATED:20150523T170823Z
LAST-MODIFIED:20150523T170823Z
UID:2243-1432990800-1432990800@praoh.org
SUMMARY:FIRST ANNUAL JOHN O’HARA MEMORIAL GOLF OUTING
DESCRIPTION:Light lunch at 1pm\, Tee-off at 2pm \n$100 pp\, $45 for dinner only \nTee sponsor-$100\, Lunch Sponsor-$250\, Dinner sponsor-$500
URL:https://praoh.org/event/first-annual-john-ohara-memorial-golf-outing/
LOCATION:Broadacres Golf Course\, 140 Old Orangeburg Rd\, Orangeburg\, NY\, United States
END:VEVENT
END:VCALENDAR