BEGIN:VCALENDAR
VERSION:2.0
PRODID:-//Pearl River Ancient Order of Hibernians - ECPv6.10.1.1//NONSGML v1.0//EN
CALSCALE:GREGORIAN
METHOD:PUBLISH
X-ORIGINAL-URL:https://praoh.org
X-WR-CALDESC:Events for Pearl River Ancient Order of Hibernians
REFRESH-INTERVAL;VALUE=DURATION:PT1H
X-Robots-Tag:noindex
X-PUBLISHED-TTL:PT1H
BEGIN:VTIMEZONE
TZID:America/New_York
BEGIN:DAYLIGHT
TZOFFSETFROM:-0500
TZOFFSETTO:-0400
TZNAME:EDT
DTSTART:20150308T070000
END:DAYLIGHT
BEGIN:STANDARD
TZOFFSETFROM:-0400
TZOFFSETTO:-0500
TZNAME:EST
DTSTART:20151101T060000
END:STANDARD
END:VTIMEZONE
BEGIN:VEVENT
DTSTART;TZID=America/New_York:20150125T080000
DTEND;TZID=America/New_York:20150125T170000
DTSTAMP:20260422T055755
CREATED:20150125T181238Z
LAST-MODIFIED:20150125T181238Z
UID:2117-1422172800-1422205200@praoh.org
SUMMARY:A Night at the Races to Benefit the Aaron Duffany
DESCRIPTION:Aaron Duffany is a 17 year old recently diagnosed with Lymphoma.  Pat Tully is hosting a “Night at the Races” to help this young man in his battle against cancer.  Doors open at 7:00\, first Race at 8:00 PM.  $15.00 Admission\, Cash Bar. 50/50 Drawing.  Contact Pat Tully (845) 709-5624
URL:https://praoh.org/event/night-races-benefit-aaron-duffany/
LOCATION:Hibernian House\, 28 Railroad Avenue\, Pearl River\, NY\, United States
END:VEVENT
END:VCALENDAR