BEGIN:VCALENDAR
VERSION:2.0
PRODID:-//Pearl River Ancient Order of Hibernians - ECPv6.10.1.1//NONSGML v1.0//EN
CALSCALE:GREGORIAN
METHOD:PUBLISH
X-WR-CALNAME:Pearl River Ancient Order of Hibernians
X-ORIGINAL-URL:https://praoh.org
X-WR-CALDESC:Events for Pearl River Ancient Order of Hibernians
REFRESH-INTERVAL;VALUE=DURATION:PT1H
X-Robots-Tag:noindex
X-PUBLISHED-TTL:PT1H
BEGIN:VTIMEZONE
TZID:America/New_York
BEGIN:DAYLIGHT
TZOFFSETFROM:-0500
TZOFFSETTO:-0400
TZNAME:EDT
DTSTART:20140309T070000
END:DAYLIGHT
BEGIN:STANDARD
TZOFFSETFROM:-0400
TZOFFSETTO:-0500
TZNAME:EST
DTSTART:20141102T060000
END:STANDARD
END:VTIMEZONE
BEGIN:VEVENT
DTSTART;TZID=America/New_York:20140912T110000
DTEND;TZID=America/New_York:20140912T110000
DTSTAMP:20260421T215145
CREATED:20140912T165633Z
LAST-MODIFIED:20140912T165633Z
UID:2082-1410519600-1410519600@praoh.org
SUMMARY:O’MALLEY’S GOLF OUTING
DESCRIPTION:New York Country Club Sep 18th to benefit Gary Baisley.  $175 includes lunch\, beer on course and dinner party at O’Malley’s.  Tee off 11:00 AM  Contact: Kieran O’Gorman 845 548-8499
URL:https://praoh.org/event/omalleys-golf-outing/
LOCATION:New York Country Club\, 103 Brick Church Rd\, \,Spring Valley\, NY\,  10977\, United States
END:VEVENT
BEGIN:VEVENT
DTSTART;TZID=America/New_York:20140919T080000
DTEND;TZID=America/New_York:20140919T210000
DTSTAMP:20260421T215145
CREATED:20140912T145433Z
LAST-MODIFIED:20140912T154902Z
UID:2070-1411113600-1411160400@praoh.org
SUMMARY:Division Meeting
DESCRIPTION:
URL:https://praoh.org/event/division-meeting-september-19th-800-pm/
LOCATION:Hibernian House\, 28 Railroad Avenue\, Pearl River\, NY\, 10956\, United States
ORGANIZER;CN="Ancient Order of Hibernians":MAILTO:paddyspeed@yahoo.com
END:VEVENT
BEGIN:VEVENT
DTSTART;TZID=America/New_York:20140930T190000
DTEND;TZID=America/New_York:20140930T190000
DTSTAMP:20260421T215145
CREATED:20140912T155336Z
LAST-MODIFIED:20140912T155338Z
UID:2071-1412103600-1412103600@praoh.org
SUMMARY:Talk: ‘The strategy and politics of the 1916 Rising’
DESCRIPTION:
URL:https://praoh.org/event/talk-strategy-politics-1916-rising/
LOCATION:Hibernian House\, 28 Railroad Avenue\, Pearl River\, NY\, 10956\, United States
ORGANIZER;CN="Ancient Order of Hibernians":MAILTO:paddyspeed@yahoo.com
END:VEVENT
END:VCALENDAR