BEGIN:VCALENDAR
VERSION:2.0
PRODID:-//Pearl River Ancient Order of Hibernians - ECPv6.10.1.1//NONSGML v1.0//EN
CALSCALE:GREGORIAN
METHOD:PUBLISH
X-ORIGINAL-URL:https://praoh.org
X-WR-CALDESC:Events for Pearl River Ancient Order of Hibernians
REFRESH-INTERVAL;VALUE=DURATION:PT1H
X-Robots-Tag:noindex
X-PUBLISHED-TTL:PT1H
BEGIN:VTIMEZONE
TZID:America/New_York
BEGIN:DAYLIGHT
TZOFFSETFROM:-0500
TZOFFSETTO:-0400
TZNAME:EDT
DTSTART:20250309T070000
END:DAYLIGHT
BEGIN:STANDARD
TZOFFSETFROM:-0400
TZOFFSETTO:-0500
TZNAME:EST
DTSTART:20251102T060000
END:STANDARD
BEGIN:DAYLIGHT
TZOFFSETFROM:-0500
TZOFFSETTO:-0400
TZNAME:EDT
DTSTART:20260308T070000
END:DAYLIGHT
BEGIN:STANDARD
TZOFFSETFROM:-0400
TZOFFSETTO:-0500
TZNAME:EST
DTSTART:20261101T060000
END:STANDARD
END:VTIMEZONE
BEGIN:VEVENT
DTSTART;TZID=America/New_York:20251226T180000
DTEND;TZID=America/New_York:20251226T180000
DTSTAMP:20260425T085300
CREATED:20251103T185007Z
LAST-MODIFIED:20251103T185007Z
UID:5989-1766772000-1766772000@praoh.org
SUMMARY:Wren Night
DESCRIPTION:St. Stephen’s Day tradition with Irish music\, dancing\, storytelling\, and craic.
URL:https://praoh.org/event/wren-night/
LOCATION:Hibernian House\, 28 Railroad Avenue\, Pearl River\, 10965
END:VEVENT
BEGIN:VEVENT
DTSTART;TZID=America/New_York:20260502T100000
DTEND;TZID=America/New_York:20260502T100000
DTSTAMP:20260425T085300
CREATED:20260424T130513Z
LAST-MODIFIED:20260424T130530Z
UID:6122-1777716000-1777716000@praoh.org
SUMMARY:AOH NYS Board Spring Meeting
DESCRIPTION:Shamrock House in East Durham\, NY
URL:https://praoh.org/event/aoh-nys-board-spring-meeting/
END:VEVENT
BEGIN:VEVENT
DTSTART;TZID=America/New_York:20260503T090000
DTEND;TZID=America/New_York:20260503T090000
DTSTAMP:20260425T085300
CREATED:20260424T130807Z
LAST-MODIFIED:20260424T130819Z
UID:6124-1777798800-1777798800@praoh.org
SUMMARY:Hibernian Mass & Communion Breakfast
DESCRIPTION:9:00 am Mass at St. Margaret’s Breakfast to follow at Hibernian House.  As an Irish Catholic organization\, this is an important event on our annual calendar\, and we ask all members to attend both events if you can. We should be very well represented at the Mass\, as our Chaplain\, Father Raaser\, is usually the celebrant. The breakfast is only $10 per individual ($20 for families). In order to get a headcount estimate\, let us know if you’re coming at praoh3@gmail.com. Thanks to John Edwards for organizing the event for us again.
URL:https://praoh.org/event/hibernian-mass-communion-breakfast-2/
END:VEVENT
BEGIN:VEVENT
DTSTART;TZID=America/New_York:20260508T000000
DTEND;TZID=America/New_York:20260508T235959
DTSTAMP:20260425T085300
CREATED:20260424T132449Z
LAST-MODIFIED:20260424T132509Z
UID:6130-1778198400-1778284799@praoh.org
SUMMARY:Memorial Golf Outing
DESCRIPTION:
URL:https://praoh.org/event/memorial-golf-outing/
LOCATION:Blue Hill Golf Course\, 285 Blue Hill Rd\, Pearl River\, NY\, 10965\, United States
END:VEVENT
BEGIN:VEVENT
DTSTART;TZID=America/New_York:20260515T190000
DTEND;TZID=America/New_York:20260515T190000
DTSTAMP:20260425T085300
CREATED:20260424T131516Z
LAST-MODIFIED:20260424T131538Z
UID:6128-1778871600-1778871600@praoh.org
SUMMARY:New Member Night
DESCRIPTION:
URL:https://praoh.org/event/new-member-night/
END:VEVENT
BEGIN:VEVENT
DTSTART;TZID=America/New_York:20260525T100000
DTEND;TZID=America/New_York:20260525T100000
DTSTAMP:20260425T085300
CREATED:20260424T133051Z
LAST-MODIFIED:20260424T133100Z
UID:6132-1779703200-1779703200@praoh.org
SUMMARY:Memorial Day Parade
DESCRIPTION:
URL:https://praoh.org/event/memorial-day-parade-2/
END:VEVENT
END:VCALENDAR