BEGIN:VCALENDAR
VERSION:2.0
PRODID:-//Pearl River Ancient Order of Hibernians - ECPv6.10.1.1//NONSGML v1.0//EN
CALSCALE:GREGORIAN
METHOD:PUBLISH
X-WR-CALNAME:Pearl River Ancient Order of Hibernians
X-ORIGINAL-URL:https://praoh.org
X-WR-CALDESC:Events for Pearl River Ancient Order of Hibernians
REFRESH-INTERVAL;VALUE=DURATION:PT1H
X-Robots-Tag:noindex
X-PUBLISHED-TTL:PT1H
BEGIN:VTIMEZONE
TZID:America/New_York
BEGIN:DAYLIGHT
TZOFFSETFROM:-0500
TZOFFSETTO:-0400
TZNAME:EDT
DTSTART:20250309T070000
END:DAYLIGHT
BEGIN:STANDARD
TZOFFSETFROM:-0400
TZOFFSETTO:-0500
TZNAME:EST
DTSTART:20251102T060000
END:STANDARD
END:VTIMEZONE
BEGIN:VEVENT
DTSTART;TZID=America/New_York:20251019T100000
DTEND;TZID=America/New_York:20251019T100000
DTSTAMP:20260423T055945
CREATED:20250921T143805Z
LAST-MODIFIED:20250921T143805Z
UID:5922-1760868000-1760868000@praoh.org
SUMMARY:Walk to End Alzheimer's
DESCRIPTION:At Boulder’s Stadium. Larry DeGenarro and family walk as Team False Echoes for 20+ years
URL:https://praoh.org/event/walk-to-end-alzheimers/
LOCATION:NY
END:VEVENT
END:VCALENDAR