BEGIN:VCALENDAR
VERSION:2.0
PRODID:-//Pearl River Ancient Order of Hibernians - ECPv6.10.1.1//NONSGML v1.0//EN
CALSCALE:GREGORIAN
METHOD:PUBLISH
X-WR-CALNAME:Pearl River Ancient Order of Hibernians
X-ORIGINAL-URL:https://praoh.org
X-WR-CALDESC:Events for Pearl River Ancient Order of Hibernians
REFRESH-INTERVAL;VALUE=DURATION:PT1H
X-Robots-Tag:noindex
X-PUBLISHED-TTL:PT1H
BEGIN:VTIMEZONE
TZID:America/New_York
BEGIN:DAYLIGHT
TZOFFSETFROM:-0500
TZOFFSETTO:-0400
TZNAME:EDT
DTSTART:20240310T070000
END:DAYLIGHT
BEGIN:STANDARD
TZOFFSETFROM:-0400
TZOFFSETTO:-0500
TZNAME:EST
DTSTART:20241103T060000
END:STANDARD
END:VTIMEZONE
BEGIN:VEVENT
DTSTART;TZID=America/New_York:20241116T170000
DTEND;TZID=America/New_York:20241116T200000
DTSTAMP:20260423T204102
CREATED:20241025T193740Z
LAST-MODIFIED:20241025T193742Z
UID:5627-1731776400-1731787200@praoh.org
SUMMARY:Rock at the Hibernian
DESCRIPTION:The Rummies will perform an acoustic set (or two) upstairs in the Hall. No cover.
URL:https://praoh.org/event/rock-at-the-hibernian/
LOCATION:NY
END:VEVENT
END:VCALENDAR