BEGIN:VCALENDAR
VERSION:2.0
PRODID:-//Pearl River Ancient Order of Hibernians - ECPv6.10.1.1//NONSGML v1.0//EN
CALSCALE:GREGORIAN
METHOD:PUBLISH
X-WR-CALNAME:Pearl River Ancient Order of Hibernians
X-ORIGINAL-URL:https://praoh.org
X-WR-CALDESC:Events for Pearl River Ancient Order of Hibernians
REFRESH-INTERVAL;VALUE=DURATION:PT1H
X-Robots-Tag:noindex
X-PUBLISHED-TTL:PT1H
BEGIN:VTIMEZONE
TZID:America/New_York
BEGIN:DAYLIGHT
TZOFFSETFROM:-0500
TZOFFSETTO:-0400
TZNAME:EDT
DTSTART:20140309T070000
END:DAYLIGHT
BEGIN:STANDARD
TZOFFSETFROM:-0400
TZOFFSETTO:-0500
TZNAME:EST
DTSTART:20141102T060000
END:STANDARD
END:VTIMEZONE
BEGIN:VEVENT
DTSTART;TZID=America/New_York:20141219T200000
DTEND;TZID=America/New_York:20141219T210000
DTSTAMP:20260422T035753
CREATED:20141219T015840Z
LAST-MODIFIED:20141219T015840Z
UID:2107-1419019200-1419022800@praoh.org
SUMMARY:AOH Division 3 Meeting
DESCRIPTION:
URL:https://praoh.org/event/aoh-division-3-meeting/
LOCATION:Hibernian House\, 28 Railroad Avenue\, Pearl River\, NY\, 10956\, United States
END:VEVENT
END:VCALENDAR